BEGIN:VCALENDAR
VERSION:2.0
PRODID:-//1882 Foundation - ECPv6.14.0//NONSGML v1.0//EN
CALSCALE:GREGORIAN
METHOD:PUBLISH
X-ORIGINAL-URL:https://1882foundation.org
X-WR-CALDESC:Events for 1882 Foundation
REFRESH-INTERVAL;VALUE=DURATION:PT1H
X-Robots-Tag:noindex
X-PUBLISHED-TTL:PT1H
BEGIN:VTIMEZONE
TZID:America/New_York
BEGIN:DAYLIGHT
TZOFFSETFROM:-0500
TZOFFSETTO:-0400
TZNAME:EDT
DTSTART:20230312T070000
END:DAYLIGHT
BEGIN:STANDARD
TZOFFSETFROM:-0400
TZOFFSETTO:-0500
TZNAME:EST
DTSTART:20231105T060000
END:STANDARD
BEGIN:DAYLIGHT
TZOFFSETFROM:-0500
TZOFFSETTO:-0400
TZNAME:EDT
DTSTART:20240310T070000
END:DAYLIGHT
BEGIN:STANDARD
TZOFFSETFROM:-0400
TZOFFSETTO:-0500
TZNAME:EST
DTSTART:20241103T060000
END:STANDARD
BEGIN:DAYLIGHT
TZOFFSETFROM:-0500
TZOFFSETTO:-0400
TZNAME:EDT
DTSTART:20250309T070000
END:DAYLIGHT
BEGIN:STANDARD
TZOFFSETFROM:-0400
TZOFFSETTO:-0500
TZNAME:EST
DTSTART:20251102T060000
END:STANDARD
END:VTIMEZONE
BEGIN:VEVENT
DTSTART;VALUE=DATE:20251015
DTEND;VALUE=DATE:20251018
DTSTAMP:20260425T135509
CREATED:20250611T183031Z
LAST-MODIFIED:20250904T151745Z
UID:12560-1760486400-1760745599@1882foundation.org
SUMMARY:Rural Chinatowns and Hidden Sites Conference
DESCRIPTION:October 15–17\, 2025 | Memphis\, Tennessee \nThe 1882 Foundation\, in partnership with the Mississippi Delta Chinese Heritage Museum\,\nthe Chinese Historical Society of Memphis and the Mid-South\, and the Arkansas Chinese\nHeritage Project\, invites you to our upcoming conference: \nRural Chinatowns and Hidden Sites: Chinese American History in the Deep South and Midwest.\n Location: SpringHill Suites\, Downtown Memphis \nThis gathering will explore the overlooked histories of Chinese American communities in rural\nregions\, bringing together scholars\, students\, educators\, and community leaders. Programming\nincludes:\n Panel discussions\n Film screenings\n Field trip to the Mississippi Delta Chinese Heritage Museum in Cleveland\, MS \nPlease RSVP with the following link: https://www.eventbrite.com/e/2025-rural-chinatowns-and-hidden-sites-conference-in-memphis-tn-tickets-1369278702459?aff=oddtdtcreator
URL:https://1882foundation.org/event/rural-chinatowns-and-hidden-sites-conference-2/
LOCATION:SpringHill Suites Memphis Downtown\, 85 Court Avenue\, Memphis\, TN\, 38103\, United States
CATEGORIES:Conferences
ATTACH;FMTTYPE=image/png:https://1882foundation.org/wp-content/uploads/2025/05/Screenshot-2025-05-08-164335.png
END:VEVENT
BEGIN:VEVENT
DTSTART;VALUE=DATE:20240618
DTEND;VALUE=DATE:20240622
DTSTAMP:20260425T135509
CREATED:20240111T152214Z
LAST-MODIFIED:20240601T160806Z
UID:12046-1718668800-1719014399@1882foundation.org
SUMMARY:Rural Chinatowns and Hidden Sites Conference
DESCRIPTION:The 1882 Foundation and the Utah State Historic Preservation Office are pleased to cosponsor a dynamic exploration of rural settlements developed by Chinese workers throughout the United States. Contributing sponsors include the Bureau of Land Management-Utah\, the Church History Department of the LDS Church\, the National Trust for Historic Preservation\, and the Chinese Railroad Workers Descendants Association. Scholars from diverse fields and preservation and museum professionals will explain their research and programs. The conference is intended as a place to make connections! \nConference Focus\nThe overarching theme is “American Chinatowns in remote places.” Aspects that will be explored include the histories of rural Chinatowns across the US; differences between urban and rural Chinatowns; challenges experienced in these rural communities; family and community issues; and social structures and links to other communities—including non-Chinese ethnic groups\, Native American tribes\, and other Chinatowns. The place of rural Chinatowns in historic preservation\, museum\, and historic site programs will be explored. \nThe conference will include on-site paper sessions\, panel discussions\, and storytelling. For those interested in coming a day early\, staff of the FamilySearch Library will provide an orientation to the library’s resources and a tour of the facility—with a focus on Asian resources. Two tours will be offered; attenders must pick one. Terrace\, Utah\, is a ghost town that provides an excellent case study of rural Chinese communities. The Golden Spike National Historical Park provides a close look at the site where the transcontinental railroad was completed. The intended audience for the conference are scholars\, preservationists\, museum professionals\, descendants of occupants of these rural enclaves\, and anyone interested in this fascinating history. \nConference Venue and Accommodations\nAll paper sessions will be held at the FamilySearch Library at 35 North West Temple Street. The conference hotel is the Salt Lake Plaza SureStay Hotel\, nearby at 122 West South Temple. When booking a room\, please mention that you’re attending the Rural Chinatowns and Hidden Sites conference at the FamilySearch Library. \nIf you are planning to stay at the Salt Lake Plaza SureStay Hotel\, you can receive a conference discount through the following link: https://www.bestwestern.com/en_US/book/hotel-rooms.53045.html?groupId=T85KH3P6. \nDeadline for booking a room at the Salt Lake Plaza SureStay Hotel at the conference discount rate is May 31\, 2024. \nRegistration and Cost\nRegistration for this conference is open and available through Eventbrite: Rural Chinatowns and Hidden Sites Conference. \nRegistration for this conference is $250 per person. \nAn optional tour can be added to your registration at no additional cost. Participants will have a choice between a tour of the Terrace ghost town or of Golden Spike National Park. These tours will happen concurrently\, and participants will not be able to attend both. The tours will take place on Thursday\, June 20. \nDeadline for conference registration is May 31\, 2024. \nContact Us\nIf you have any questions or concerns\, please contact us at the following email address: ruralchinatown@1882foundation.org. \n  \n**Golden Terrace Tour has been sold out** \n**Conference registration has closed**
URL:https://1882foundation.org/event/rural-chinatowns-and-hidden-sites-conference/
LOCATION:FamilySearch Library\, 35 North West Temple Street\, Salt Lake City\, UT\, 84150\, United States
CATEGORIES:Conferences,Historic Preservation
END:VEVENT
BEGIN:VEVENT
DTSTART;VALUE=DATE:20231005
DTEND;VALUE=DATE:20231008
DTSTAMP:20260425T135509
CREATED:20230802T201010Z
LAST-MODIFIED:20231017T190443Z
UID:9730-1696464000-1696723199@1882foundation.org
SUMMARY:Chinese American Women in History Conference 2023
DESCRIPTION:SAVE THE DATE:\n“Locating Kinship Across Space and Time”\nOctober 5-7\, 2023\nWashington DC and virtual\nThe 1882 Foundation is excited to announce the second Chinese American Women in History conference\, to be held in Washington DC this fall. Themed\, “Locating Kinship Across Space and Time\,” the conference aims to explore how Chinese American women\, both as historical subjects and contemporary practitioners of history\, have forged interpersonal connections\, fostered care\, and facilitated community. \nThis conference is kindly sponsored by the 1882 Foundation\, the Chinese American Museum DC\, and the Ruth H. Kuo and Rhoda How Memorial Foundation. \nWe will welcome scholars\, filmmakers\, creatives\, and community members alike to share their work exploring the multifaceted and complex experiences of Chinese American women. Topics include the figures of Soo Yong and Anna May Wong\, Chinese Americans in 1900’s mass entertainment\, Chinese American Hawai’i-based labor organizer Ah Quon McElrath\, and the legacies of Chinese American women filmmakers\, with many more subjects still to come. \nSet at cultural institutions across Washington DC\, the conference utilizes the breadth and depth of the 1882 Foundation’s partnerships with institutions\, organizations\, and individuals alike pursuing Asian American public history in the District and nationally. \n\n SCHEDULE\nThursday\, October 5 (DAY 1) at the Chinese American Museum DC\nRegistration | 2:00PM – 5:00PM \nOpening Reception | 5:00PM – 7:00PM \nFriday\, October 6 (DAY 2) at the Charles Sumner School\nBreakfast | 8:30AM – 9:00AM \nBreaking the silence – the intergenerational impact of exclusion | 9:00AM – 10:15AM \n\n\n\nScreenings: Tracing History and Chinese Couplets (abridged)\n\n\n\nFamily | 10:30AM – 11:45AM \nLunch Keynote Address: Screening “Yellow Fever”: Racist Misogyny in Cinematic Representations of Asian American Women\, Dr. Alexa Alice Joubin | 12:00PM – 12:45PM \nFrom Soo Yong to Anna May Wong: the Entertainer | 1:00PM – 2:15PM \n\n\n\nScreenings: Anna Unbound\n\n\n\nThe Kim Loo Sisters: From Kiddie Revues to the Silver Screen; Ten Times Better | 2:30PM – 3:45PM \n\n\n\nScreenings: The Kim Loo Sisters (clips) and Ten Times Better (clips)\n\n\n\nAh Quon McElrath: Hawai’i Labor History| 4:00PM – 5:00PM \n\n\n\nScreenings: AQ the film (clips)\n\n\n\n \nSaturday\, October 7 (DAY 3 – TWO TRACKS) at National Portrait Gallery and I Street Conference Center\nTrack 1: Kinship at National Portrait Gallery | 9:00 AM (arrive by 8:50 AM)\nTake a guided tour of the “Kinship” exhibit! Please arrive at the National Portrait Gallery (located at 8th St and G St NW) by 8:50 AM. Participants will meet outside the G Street entrance of the National Portrait Gallery. \nTrack 2: Education Workshop at I Street Conference Center (located in the Venable LLP building)| 11:00AM – 1:00 PM\nEducation Workshop: Weaving AAPI stories into the American Narrative\nA common dilemma for teachers is how to bring little known – but important stories – into their classrooms while ensuring that those lessons have a clear connection to curriculum standards. The Supreme Court case of Gong Lum v. Rice (1927) is one such example. \n\nThis two-part workshop will investigate the history of the case\, the first challenge to the “separate but equal” doctrine established by Plessy v. Ferguson\, and the major role that Mrs. Lum played in seeking fairness in the education for her daughters. It is a compelling story of courage\, pre-Brown v. Board of Education\, in the context of the broader struggle for civil rights for all Americans.\n\nThe first session will highlight the role of Mrs. Lum and the significance of the case. Adrienne Berard\, author of Water Tossing Boulders about the Gong Lum case\, will lead off a panel discussion with Esther Kim\, Prof. of Education (William and Mary)\, Deenesh Sohoni\, Prof. Asian American Studies (William and Mary)\, and Stan Lou of the 1882 Foundation who grew up in the Mississippi Delta in the years following Gong Lum v. Rice. \n\nThe second session will feature lessons created by Diana Kim and Collin Absher (both students at W&M)\, and Ting-Yi Oei (1882 Foundation) that further illustrate the ways in which Chinese American and AAPI stories can be effectively integrated into the curriculum.\n\nEducation Workshop Venue Directions\nThe Education Workshop will take place at the I Street Conference Center located in the Venable LLP building at 600 Massachusetts Ave NW. Please enter the building on the Massachusetts Avenue side.\n\n\n1882 Foundation staff and volunteers will be present to guide you to the conference room. If an 1882 Foundation representative is unavailable\, notify the guard at the reception desk that you present for an event in the conference room. \nIf searching for the conference center on Google Maps or Apple Maps\, enter “Venable LLP” at 600 Massachusetts Ave NW. \n\n\nDay 3-Education Workshop Tickets\n\n\n\nFor participants who purchased in-person general admission tickets\, the Education Workshop is included in the price of the ticket.\nFor participants who cannot attend Day 1 and Day 2 conference sessions\, but are interested in attending the Education Workshop\, a separate ticket is available for only the Day 3 Education Workshop on the CAWH Eventbrite page.\n\n\n\n\nCOVID-19 Precautions\nIn light of COVID-19\, please stay home if you are not feeling well. For participants attending in-person\, we will provide extra masks (if you would like) and hand sanitizing stations. \n\nConference Recordings\nSelect conference sessions will be recorded and made available to attendees and the general public after the conference.  \nRegister to attend on Eventbrite here: bit.ly/cawh2023
URL:https://1882foundation.org/event/chinese-american-women-in-history-conference-2023/
LOCATION:Charles Sumner School\, 1201 17th Street Northwest\, Washington\, DC\, 20036\, United States
CATEGORIES:Conferences
ATTACH;FMTTYPE=image/jpeg:https://1882foundation.org/wp-content/uploads/2023/08/CAWH_conference_2023.jpg
END:VEVENT
END:VCALENDAR