BEGIN:VCALENDAR
VERSION:2.0
PRODID:-//1882 Foundation - ECPv6.14.0//NONSGML v1.0//EN
CALSCALE:GREGORIAN
METHOD:PUBLISH
X-ORIGINAL-URL:https://1882foundation.org
X-WR-CALDESC:Events for 1882 Foundation
REFRESH-INTERVAL;VALUE=DURATION:PT1H
X-Robots-Tag:noindex
X-PUBLISHED-TTL:PT1H
BEGIN:VTIMEZONE
TZID:America/New_York
BEGIN:DAYLIGHT
TZOFFSETFROM:-0500
TZOFFSETTO:-0400
TZNAME:EDT
DTSTART:20240310T070000
END:DAYLIGHT
BEGIN:STANDARD
TZOFFSETFROM:-0400
TZOFFSETTO:-0500
TZNAME:EST
DTSTART:20241103T060000
END:STANDARD
END:VTIMEZONE
BEGIN:VEVENT
DTSTART;TZID=America/New_York:20241103T140000
DTEND;TZID=America/New_York:20241103T150000
DTSTAMP:20260425T110639
CREATED:20241022T194912Z
LAST-MODIFIED:20241022T194912Z
UID:12268-1730642400-1730646000@1882foundation.org
SUMMARY:On the Front Lines of Democracy Talk Story
DESCRIPTION:Join us to discuss Jackie Wu’s new book\, On the Front Lines of Democracy: An Election Officials Story of Protecting the Vote in 2020\, on November 3rd at 2 pm. \nIf you are attending this event in person\, please fill out the following link: https://forms.gle/cBXm9iAN8qE1En348 \nIf you would like to attend this event via Zoom\, use the following link: https://us02web.zoom.us/meeting/register/tZEkcu-rpj8tEtGIKu1Q-RRkBb9ZG-A-8ihp \n 
URL:https://1882foundation.org/event/on-the-front-lines-of-democracy-talk-story/
LOCATION:DC
CATEGORIES:Talk Story Events
ATTACH;FMTTYPE=image/jpeg:https://1882foundation.org/wp-content/uploads/2024/10/On_the_frontlines_of_democracy_talkstory.jpg
END:VEVENT
BEGIN:VEVENT
DTSTART;TZID=America/New_York:20241109T093000
DTEND;TZID=America/New_York:20241109T170000
DTSTAMP:20260425T110639
CREATED:20240903T181126Z
LAST-MODIFIED:20241022T154602Z
UID:12197-1731144600-1731171600@1882foundation.org
SUMMARY:My China Roots & Genealogy
DESCRIPTION:Clear out your attics and basements of documents (in Chinese or English)\, maps\, genealogy records\, and photos. Share with Chinese genealogy specialists from My China Roots and U.S. immigration historians and friends. Learn how to document your family’s history and how to retell those oral histories. Registration fee includes snacks and lunch. \nUpdate: An additional day has been added to this workshop! If you are available on Friday\, November 8th\, please join us in visiting Range 99 at the Congressional Cemetery in the morning\, followed by a visit to the Library of Congress in the afternoon\, and lastly\, a reception in the 1882 office at 6 p.m. This additional day is at no cost. If you are interested in attending this event\, please email ellen@1882foundation.org indicating your attendance. \nRegistration is $100. Please use the following link to register:  https://www.eventbrite.com/e/my-china-roots-genealogy-tickets-1006343539617?aff=oddtdtcreator
URL:https://1882foundation.org/event/my-china-roots-genealogy/
LOCATION:I Street Conferencing Center – Mass. Ave\, 600 Massachusetts Avenue\, NW (entry from I Street between 6/7th streets)\, Washington\, DC\, 20001\, United States
ATTACH;FMTTYPE=image/jpeg:https://1882foundation.org/wp-content/uploads/2024/09/My_China_Roots_Genealogy_Event.jpg
END:VEVENT
END:VCALENDAR