BEGIN:VCALENDAR
VERSION:2.0
PRODID:-//1882 Foundation - ECPv6.14.0//NONSGML v1.0//EN
CALSCALE:GREGORIAN
METHOD:PUBLISH
X-ORIGINAL-URL:https://1882foundation.org
X-WR-CALDESC:Events for 1882 Foundation
REFRESH-INTERVAL;VALUE=DURATION:PT1H
X-Robots-Tag:noindex
X-PUBLISHED-TTL:PT1H
BEGIN:VTIMEZONE
TZID:America/New_York
BEGIN:DAYLIGHT
TZOFFSETFROM:-0500
TZOFFSETTO:-0400
TZNAME:EDT
DTSTART:20250309T070000
END:DAYLIGHT
BEGIN:STANDARD
TZOFFSETFROM:-0400
TZOFFSETTO:-0500
TZNAME:EST
DTSTART:20251102T060000
END:STANDARD
END:VTIMEZONE
BEGIN:VEVENT
DTSTART;TZID=America/New_York:20250727T140000
DTEND;TZID=America/New_York:20250727T150000
DTSTAMP:20260422T160238
CREATED:20250707T141940Z
LAST-MODIFIED:20250707T141940Z
UID:12592-1753624800-1753628400@1882foundation.org
SUMMARY:Generations: Stories of Asian Americans in Richmond
DESCRIPTION:Generations: Stories of Asian Americans in Richmond \nJoin us for a captivating conversation on how The Valentine’s newest exhibit\, Generations\, was formed! Panelists include Ting-Yi Oei (1882 Foundation)\, Meg Hughes (The Valentine)\, and Dave Pearson (Generations Photographer).  \nSunday\, July 28 | 2:00 PM \nPlease register using the following link: https://www.eventbrite.com/e/generations-stories-of-asian-americans-in-richmond-tickets-1457717284639?aff=oddtdtcreator \nIf you are unable to attend our event in-person\, no worries! You can still tune in via Zoom. In order to receive the Zoom link\, please register using this link instead:\nhttps://us02web.zoom.us/meeting/register/3b3lj1ucQOqQc80bgDONrg
URL:https://1882foundation.org/event/generations-stories-of-asian-americans-in-richmond/
LOCATION:1882 Foundation Office\, 508 I Street NW\, Washington\, DC\, 20001\, United States
CATEGORIES:Talk Story Events
ATTACH;FMTTYPE=image/jpeg:https://1882foundation.org/wp-content/uploads/2025/07/Generations-Talk-Story-website.jpg
END:VEVENT
END:VCALENDAR