BEGIN:VCALENDAR
VERSION:2.0
PRODID:-//1882 Foundation - ECPv6.14.0//NONSGML v1.0//EN
CALSCALE:GREGORIAN
METHOD:PUBLISH
X-WR-CALNAME:1882 Foundation
X-ORIGINAL-URL:https://1882foundation.org
X-WR-CALDESC:Events for 1882 Foundation
REFRESH-INTERVAL;VALUE=DURATION:PT1H
X-Robots-Tag:noindex
X-PUBLISHED-TTL:PT1H
BEGIN:VTIMEZONE
TZID:America/New_York
BEGIN:DAYLIGHT
TZOFFSETFROM:-0500
TZOFFSETTO:-0400
TZNAME:EDT
DTSTART:20240310T070000
END:DAYLIGHT
BEGIN:STANDARD
TZOFFSETFROM:-0400
TZOFFSETTO:-0500
TZNAME:EST
DTSTART:20241103T060000
END:STANDARD
END:VTIMEZONE
BEGIN:VEVENT
DTSTART;TZID=America/New_York:20240804T140000
DTEND;TZID=America/New_York:20240804T150000
DTSTAMP:20260419T120847
CREATED:20240725T184335Z
LAST-MODIFIED:20240726T003524Z
UID:12178-1722780000-1722783600@1882foundation.org
SUMMARY:Talk Story: Race to the Truth - Exclusion and the Chinese American Story
DESCRIPTION:Join us at 600 Mass. Ave NW from 2-3pm for our next Talk Story! We will be discussing Dr. Sarah-SoonLing Blackburn’s new book\, Exclusion and the Chinese American Story. This book is a part of the Penguin Random House’s Race to the Truth Collection\, a series dedicated to sharing true historical accounts of unsung heroes and celebrating perseverance and identity. \nPlease register using this link: https://lnkd.in/deE53u34
URL:https://1882foundation.org/event/talk-story-race-to-the-truth-exclusion-and-the-chinese-american-story/
LOCATION:I Street Conferencing Center – Mass. Ave\, 600 Massachusetts Avenue\, NW (entry from I Street between 6/7th streets)\, Washington\, DC\, 20001\, United States
CATEGORIES:Talk Story Events
ATTACH;FMTTYPE=image/png:https://1882foundation.org/wp-content/uploads/2024/07/flyergoogleformbooktalk.png
END:VEVENT
END:VCALENDAR